BEGIN:VCALENDAR
VERSION:2.0
PRODID:-//Amy Weintraub - ECPv6.15.20//NONSGML v1.0//EN
CALSCALE:GREGORIAN
METHOD:PUBLISH
X-WR-CALNAME:Amy Weintraub
X-ORIGINAL-URL:https://amyweintraub.com
X-WR-CALDESC:Events for Amy Weintraub
REFRESH-INTERVAL;VALUE=DURATION:PT1H
X-Robots-Tag:noindex
X-PUBLISHED-TTL:PT1H
BEGIN:VTIMEZONE
TZID:America/Phoenix
BEGIN:STANDARD
TZOFFSETFROM:-0700
TZOFFSETTO:-0700
TZNAME:MST
DTSTART:20200101T000000
END:STANDARD
END:VTIMEZONE
BEGIN:VEVENT
DTSTART;TZID=America/Phoenix:20211205T133000
DTEND;TZID=America/Phoenix:20211205T163000
DTSTAMP:20260425T162516
CREATED:20210924T160858Z
LAST-MODIFIED:20211130T160625Z
UID:2844-1638711000-1638721800@amyweintraub.com
SUMMARY:Yoga for Your Mood HYBRID Workshop
DESCRIPTION:Online Registration\n\nDecember 5\, 2021\nYoga Connection\, Tucson\, AZ\nThis is a hybrid offering. Join us live in Tucson\, or online from home.\nNote: after clicking the registration link above\, scroll down and choose either the in-person or virtual option to join. \nIn studio! Spend an afternoon full of laughter\, stories\, love\, and accessible yoga with Amy Weintraub. For ALL bodies and ALL levels. Treat yourself to a vibrant community afternoon – in Tucson. The only constant is change\, and sometimes this can be uncomfortable or difficult. Need tools to help?  \n \nLearn accessible skills that support emotional balance\, soothe anxiety\, elevate mood\, reduce fatigue. These tools can increase ease and clarity and resilience. \nAmy\, who recently launched Amazon’s #1 Yoga for Your Mood card deck\, is also the author of the groundbreaking book\, Yoga for Depression. \nNearly twenty five years of research\, thirty+ years of practice\, and Amy’s personal recovery from a debilitating depression inform this protocol of evidence-based yoga practices. Learn tools not taught in regular yoga classes to support your own healing journey and those you serve. \nLifeForce Yoga weaves ancient disciplines with current scientific findings to help you release what no longer serves you and become the agent of your own healing. CEUs available.\nCall 520 323 1222. \n  \n \nAmy Weintraub\, MFA\, ERYT-500\, C-IAYT\, YACEP\nAmy Weintraub\, MFA\, E-RYT 500\, YACEP\, C-IAYT\, is the founder of LifeForce Yoga® and a pioneer in the field of yoga and mental health. She is the author of Yoga for Depression (Broadway Books) and Yoga Skills for Therapists (W.W. Norton) and numerous magazine articles and book chapters. Amy is trained in Internal Family Systems\, Level 2\, and collaborates with IFS-certified therapists to offer integrated programs of IFS and LifeForce Yoga. She has been a consultant for research on the impact of Yoga on mood\, and the evidence-based Yoga protocols for depression and anxiety she developed are used in therapeutic settings internationally and are featured on award-winning audio-visual products for mood management. \nAmy’s latest offering\, Yoga for Your Mood Deck: 52 Ways to Shift Depression and Anxiety\, is available everywhere\, and through Sounds True/Macmillan. Her new novel Temple Dancer\, set in India in the 1940’s and in current day USA\, is now on Audible! \namyweintraub.com
URL:https://amyweintraub.com/event/yoga-for-your-mood-live-workshop/
LOCATION:Yoga Connection\, 3929 East Pima\, Tucson\, AZ\, 85701\, United States
CATEGORIES:Workshops
END:VEVENT
END:VCALENDAR