BEGIN:VCALENDAR
VERSION:2.0
PRODID:-//Amy Weintraub - ECPv6.15.20//NONSGML v1.0//EN
CALSCALE:GREGORIAN
METHOD:PUBLISH
X-WR-CALNAME:Amy Weintraub
X-ORIGINAL-URL:https://amyweintraub.com
X-WR-CALDESC:Events for Amy Weintraub
REFRESH-INTERVAL;VALUE=DURATION:PT1H
X-Robots-Tag:noindex
X-PUBLISHED-TTL:PT1H
BEGIN:VTIMEZONE
TZID:America/Phoenix
BEGIN:STANDARD
TZOFFSETFROM:-0700
TZOFFSETTO:-0700
TZNAME:MST
DTSTART:20210101T000000
END:STANDARD
END:VTIMEZONE
BEGIN:VEVENT
DTSTART;VALUE=DATE:20220131
DTEND;VALUE=DATE:20220205
DTSTAMP:20260425T144219
CREATED:20220111T154358Z
LAST-MODIFIED:20220112T191257Z
UID:3083-1643587200-1644019199@amyweintraub.com
SUMMARY:Mental Health + Yoga Summit
DESCRIPTION:Online Registration\n\nFREE  |  ONLINE  |  FIVE DAYS\nJanuary 31- February 4\, 2022\n \nThe very first Mental Health + Yoga Summit is coming and I’m so excited to be included. What a way to start the new year\, right? \nThis special event is hosted by Dr Lauren Tober from Mental Health Aware Yoga\, and is designed especially for Yoga Teachers\, Health Professionals and anyone interested in learning more about mental health and yoga. The summit is free\, and it runs online for five days starting 31st of January 2022. \nI’m speaking about a topic I’m really passionate about:  Yoga for Your Mood\, and I’m joined by SO many brilliant speakers including James Fox from the Prison Yoga Project\, Stephanie Lopez from the iRest Institute\, Allé from Trans Yoga\, Shannon Crow from the Connected Yoga Teachers Podcast\, Ganesh Mohan\, Anneke Sips\, Rachel Zinman + many more. \nYou can find out more about this brilliant summit\, and sign up (for free!) at mentalhealthandyogasummit.com. Can’t wait to see you there! \n\n\n\n \nAmy Weintraub\, MFA\, ERYT-500\, C-IAYT\, YACEP\nAmy Weintraub\, MFA\, E-RYT 500\, YACEP\, C-IAYT\, is the founder of LifeForce Yoga® and a pioneer in the field of yoga and mental health. She is the author of Yoga for Depression (Broadway Books) and Yoga Skills for Therapists (W.W. Norton) and numerous magazine articles and book chapters. Amy is trained in Internal Family Systems\, Level 2\, and collaborates with IFS-certified therapists to offer integrated programs of IFS and LifeForce Yoga. She has been a consultant for research on the impact of Yoga on mood\, and the evidence-based Yoga protocols for depression and anxiety she developed are used in therapeutic settings internationally and are featured on award-winning audio-visual products for mood management. \nAmy’s latest offering\, Amazon’s #1 Yoga for Your Mood Deck: 52 Ways to Shift Depression and Anxiety\, is available everywhere\, and through Sounds True/Macmillan. Her new novel Temple Dancer\, set in India in the 1940’s and in current day USA\, is now on Audible! \namyweintraub.com
URL:https://amyweintraub.com/event/mental-health-yoga-summit/
LOCATION:MA
END:VEVENT
END:VCALENDAR