BEGIN:VCALENDAR
VERSION:2.0
PRODID:-//Amy Weintraub - ECPv6.15.20//NONSGML v1.0//EN
CALSCALE:GREGORIAN
METHOD:PUBLISH
X-WR-CALNAME:Amy Weintraub
X-ORIGINAL-URL:https://amyweintraub.com
X-WR-CALDESC:Events for Amy Weintraub
REFRESH-INTERVAL;VALUE=DURATION:PT1H
X-Robots-Tag:noindex
X-PUBLISHED-TTL:PT1H
BEGIN:VTIMEZONE
TZID:America/Phoenix
BEGIN:STANDARD
TZOFFSETFROM:-0700
TZOFFSETTO:-0700
TZNAME:MST
DTSTART:20210101T000000
END:STANDARD
END:VTIMEZONE
BEGIN:VEVENT
DTSTART;VALUE=DATE:20220304
DTEND;VALUE=DATE:20220307
DTSTAMP:20260425T114336
CREATED:20220119T123123Z
LAST-MODIFIED:20220228T221302Z
UID:3119-1646352000-1646611199@amyweintraub.com
SUMMARY:YogaCon 2022: Yoga Supporting Mental Health
DESCRIPTION:Online Registration\n\nYogaCon 2022: Yoga Supporting Mental Health\nMarch 4-6th\, 2022 RiverCenter\, Davenport\, Iowa  \nThe Quad City Yoga Conference is thrilled to offer this event for folks interested in yoga from very beginners to advanced practitioners. This is our inaugural fundraising event\, and all ticket sales go to funding QCYC’s work sharing yoga and mindfulness in our community. YogaCon 2022 highlights some of the best yoga teachers in the United States who are practicing deep work that supports mental health with the practices and discipline of yoga. \nAmy will be presenting two YOGA FOR YOUR MOOD sessions\, both Saturday :\nYoga For Your Mood Part 1\nThis session meets that couch potato feeling of lethargy\, pandemic malaise\, and negative self-talk that may or may not be clinical depression. We’ll learn and practice simple\, accessible yoga skills—evidence-based breathing\, imagery\, sound and movement exercises that can meet and shift your mood\, clear you mind\, open your heart and give you more energy. These accessible practices can be used for you and those you serve. Appropriate to clinical settings\, yoga classes\, and self care. \nYoga For Your Mood Part 2\nThis session meets that revved up\, hypervigilant mood that may keep you awake with worry and may or may not be an anxiety disorder. We’ll learn and practice simple\, accessible yoga skills—evidence-based breathing\, imagery\, sound and movement exercises that can meet and shift your mood\, calm your mind\, soothe your heart and give you a good night’s sleep. \nYogaCon also features presenters from all across the United States\, including \n\nKeynote Speaker: Matthew Taylor\nIndu Arora\nAmy Weintraub\nKristine Weber\nPooja Virani\nBuffy Gillespie\n… and many more\n\nDOWNLOAD THE FULL SCHEDULE HERE.\nTickets · $20 – $250\nwww.eventbrite.com\n \nJoining these amazing humans are 14 of Iowa & Illinois best yoga teachers! We have local and regional teachers who we are thrilled to announce are all offering original content for our event. \nWe are also offering a specialized track in our weekend called Yoga Supporting Cancer Recovery\, hosted by Buffy Gillespie. \n  \n \n\nThe Quad Cities Yoga Foundation\nis a 501c3 non-profit founded to bring the benefits of a full yoga practice to underestimated Quad Citizens. The Quad Cities Yoga Foundation seeks to serve school children\, partner with other local non-profit organizations\, and share the many life benefits of Yoga with as many Quad Cities humans as possible. Our unending mission will be to build bridges between those who teach yoga\, and those who can use the skills yoga delivers to improve their lives and communities. \n  \nAmy Weintraub\, MFA\, E-RYT 500\, C-IAYT\, YACEP\nAmy Weintraub\, MFA\, E-RYT 500\, C-IAYT\, YACEP is the founder of LifeForce Yoga® and a pioneer in the field of yoga and mental health. She is the author of Yoga for Depression (Broadway Books) and Yoga Skills for Therapists (W.W. Norton) and numerous magazine articles and book chapters. Amy is trained in Internal Family Systems\, Level 2\, and collaborates with IFS-certified therapists to offer integrated programs of IFS and LifeForce Yoga. She has been a consultant for research on the impact of Yoga on mood\, and the evidence-based Yoga protocols for depression and anxiety she developed are used in therapeutic settings internationally and are featured on award-winning audio-visual products for mood management. \nAmy’s latest offering\, Yoga for Your Mood Deck: 52 Ways to Shift Depression and Anxiety\, by Sounds True/Macmillan is available now! Her award-winning novel Temple Dancer\, set in India in the 1940’s and in current day USA\, is available everywhere\, including Audible.\namyweintraub.com \n 
URL:https://amyweintraub.com/event/yogacon-2022-quad-city-yoga-conference/
LOCATION:QCYC\, 136 E 3rd St\, Davenport\, IA\, 52801\, United States
CATEGORIES:talk/appearance,Virtual Gathering,Workshops
END:VEVENT
BEGIN:VEVENT
DTSTART;TZID=America/Phoenix:20220313T140000
DTEND;TZID=America/Phoenix:20220313T160000
DTSTAMP:20260425T114336
CREATED:20220114T165822Z
LAST-MODIFIED:20220124T010206Z
UID:3095-1647180000-1647187200@amyweintraub.com
SUMMARY:YOGA FOR YOUR MOOD live virtual workshop
DESCRIPTION:Online Registration\n\nYoga for Your Mood: Practices to Shift Depression and Anxiety\nSunday\, March 13\, 2022\nlive\, online via Zoom with Beloved Yoga in Reston\, VA\n2-4pm ET \nDon’t stay stuck in a bad mood or thinking that limits you. Not only will these practices shift your mood\, but they may change your life as they did for Amy and the thousands of students she has trained. Discover accessible yoga practices that support you and those you serve achieve and sustain emotional wellbeing. We’ll be meeting the mood and shifting it into balance with yoga breathing\, mudras\, visual imagery\, yoga meditations\, mantras and accessible movements. Many of these practices are not taught in regular yoga classes. \nAmy experienced firsthand the relief that yoga can provide and has spent her career helping others who suffer from mood disorders like depression and anxiety. Now\, she offers accessible practices to everyone\, no yoga experience required. Come find YOUR balance! \n$40\nThe recording will be available for those enrolled.  \n  \nAmy Weintraub\, MFA\, ERYT-500\, C-IAYT\, YACEP\n\nAmy Weintraub\, MFA\, E-RYT 500\, YACEP\, C-IAYT\, is the founder of LifeForce Yoga® and a pioneer in the field of yoga and mental health. She is the author of Yoga for Depression (Broadway Books) and Yoga Skills for Therapists (W.W. Norton) and numerous magazine articles and book chapters. Amy is trained in Internal Family Systems\, Level 2\, and collaborates with IFS-certified therapists to offer integrated programs of IFS and LifeForce Yoga. She has been a consultant for research on the impact of Yoga on mood\, and the evidence-based Yoga protocols for depression and anxiety she developed are used in therapeutic settings internationally and are featured on award-winning audio-visual products for mood management. \nAmy’s latest offering\, Yoga for Your Mood Deck: 52 Ways to Shift Depression and Anxiety\, by Sounds True/Macmillan is available now! Her award-winning novel Temple Dancer\, set in India in the 1940’s and in current day USA\, is available everywhere\, including Audible.\namyweintraub.com
URL:https://amyweintraub.com/event/yoga-for-your-mood-practices-to-shift-depression-and-anxiety/
LOCATION:Beloved Yoga\, 11109 Sunset Hills Rd\, Reston\, VA\, 20190\, United States
CATEGORIES:Virtual Gathering,Workshops
END:VEVENT
END:VCALENDAR