BEGIN:VCALENDAR
VERSION:2.0
PRODID:-//Amy Weintraub - ECPv6.15.20//NONSGML v1.0//EN
CALSCALE:GREGORIAN
METHOD:PUBLISH
X-ORIGINAL-URL:https://amyweintraub.com
X-WR-CALDESC:Events for Amy Weintraub
REFRESH-INTERVAL;VALUE=DURATION:PT1H
X-Robots-Tag:noindex
X-PUBLISHED-TTL:PT1H
BEGIN:VTIMEZONE
TZID:America/Phoenix
BEGIN:STANDARD
TZOFFSETFROM:-0700
TZOFFSETTO:-0700
TZNAME:MST
DTSTART:20210101T000000
END:STANDARD
END:VTIMEZONE
BEGIN:VEVENT
DTSTART;TZID=America/Phoenix:20220402T130000
DTEND;TZID=America/Phoenix:20220402T160000
DTSTAMP:20260425T100526
CREATED:20220118T143008Z
LAST-MODIFIED:20220330T171410Z
UID:3127-1648904400-1648915200@amyweintraub.com
SUMMARY:YOGA FOR YOUR MOOD: Practices to Shift Depression and Anxiety
DESCRIPTION:Online Registration\n\n  \nThis is a HYBRID offering! Join Amy in the Tucson studio or stream online from home.\nDon’t stay stuck in a bad mood or thinking that limits you. Not only will these practices shift your mood\, but they may change your life as they did for Amy and the thousands of students she has trained. Learn accessible yoga practices that support you and those you serve achieve and sustain emotional wellbeing. \nWe’ll be meeting the mood and shifting it into balance with yoga breathing\, mudras\, visual imagery\, yoga meditations\, mantras and accessible movements. Many of these practices are not taught in regular yoga classes. \nAmy experienced firsthand the relief that yoga can provide and has spent her career helping others who suffer from mood disorders like depression and anxiety. Now\, she offers accessible practices to everyone\, no yoga experience required. \nMasks required for those attending in person. \n$65 / $55 if booked before March 2\nno member discounts \nBarefoot Studio in Tucson- more than a yoga studio. \nBarefoot Studio is a gathering place for those who seek to care for themselves in a welcoming\, safe\, comfortable\, and supportive environment at all levels. It’s something that really has to be experienced first-hand (and bare-foot)! ???? \nCome prepared to laugh\, connect\, explore\, indulge\, inspire\, and be you. \n  \nAmy Weintraub\, MFA\, ERYT-500\, C-IAYT\, YACEP\n\nAmy Weintraub\, MFA\, E-RYT 500\, YACEP\, C-IAYT\, is the founder of LifeForce Yoga® and a pioneer in the field of yoga and mental health. She is the author of Yoga for Depression (Broadway Books) and Yoga Skills for Therapists (W.W. Norton) and numerous magazine articles and book chapters. Amy is trained in Internal Family Systems\, Level 2\, and collaborates with IFS-certified therapists to offer integrated programs of IFS and LifeForce Yoga. She has been a consultant for research on the impact of Yoga on mood\, and the evidence-based Yoga protocols for depression and anxiety she developed are used in therapeutic settings internationally and are featured on award-winning audio-visual products for mood management. \nAmy’s latest offering\, Yoga for Your Mood Deck: 52 Ways to Shift Depression and Anxiety\, by Sounds True/Macmillan is available now! Her award-winning novel Temple Dancer\, set in India in the 1940’s and in current day USA\, is available everywhere\, including Audible.\namyweintraub.com
URL:https://amyweintraub.com/event/yoga-for-your-mood-practices-to-shift-depression-and-anxiety-2/
LOCATION:Barefoot Yoga\, 7053 N. Oracle Road Suite 200\, Tucson\, AZ\, 85704\, United States
CATEGORIES:Virtual Gathering,Workshops
END:VEVENT
END:VCALENDAR