BEGIN:VCALENDAR
VERSION:2.0
PRODID:-//Amy Weintraub - ECPv6.15.20//NONSGML v1.0//EN
CALSCALE:GREGORIAN
METHOD:PUBLISH
X-WR-CALNAME:Amy Weintraub
X-ORIGINAL-URL:https://amyweintraub.com
X-WR-CALDESC:Events for Amy Weintraub
REFRESH-INTERVAL;VALUE=DURATION:PT1H
X-Robots-Tag:noindex
X-PUBLISHED-TTL:PT1H
BEGIN:VTIMEZONE
TZID:America/Phoenix
BEGIN:STANDARD
TZOFFSETFROM:-0700
TZOFFSETTO:-0700
TZNAME:MST
DTSTART:20210101T000000
END:STANDARD
END:VTIMEZONE
BEGIN:VEVENT
DTSTART;VALUE=DATE:20220613
DTEND;VALUE=DATE:20220618
DTSTAMP:20260425T064139
CREATED:20220531T193758Z
LAST-MODIFIED:20220531T235852Z
UID:3421-1655078400-1655510399@amyweintraub.com
SUMMARY:Healing Trauma Through Conscious Embodiment Summit
DESCRIPTION:Online Registration\n\nHealing Trauma Through Conscious Embodiment Summit\nRevealing Your Body’s Wisdom and Utilizing Creativity\nJune 13-17\n\nLooking for emotionally conscious inspiration? Need some new perspective to help with recent events? I believe community always helps.\n\n\n\nThis fascinating and varied event includes poets and singers\, yogis and therapists\, doers and dreamers like Owen and Mícheál Ó Súilleabháin\, Deirdre Fay: author and trainer\, Susan Merson Author\, Bernadette Pleasant of The Emotional Institute\, Raja Selvam\, Reggie Marra\, Jennifer Wortham\, LCSW\, Anthony Rios\, Kent Frazier\, and more. I know you’ll discover new takes and ideas to support ease in body\, mind and spirit.\n\n\n\nThis virtual summit is hosted by Gregg Westwood of Depth Integration.  It’s all free\, but you need to save your seat to get access. Once the summit begins\, you will receive daily emails with links to each presentation.\n\n\n\nEach presenter’s video will be available (free) for 48 hours following the date/time that it airs. Join me and enjoy a blend of ancient practices with modern healing techniques that supports an intuitive journey using the breath\, the body and a vision of integrated health and wellness. \n\nThis can help us all\, and I hope you’ll join us.\nREGISTER NOW: https://bit.ly/3wUDnUu\n\n\n\nMore Here
URL:https://amyweintraub.com/event/healing-trauma-through-conscious-embodiment-summit/
LOCATION:MA
CATEGORIES:talk/appearance,Virtual Gathering
END:VEVENT
END:VCALENDAR