BEGIN:VCALENDAR
VERSION:2.0
PRODID:-//Amy Weintraub - ECPv6.15.20//NONSGML v1.0//EN
CALSCALE:GREGORIAN
METHOD:PUBLISH
X-WR-CALNAME:Amy Weintraub
X-ORIGINAL-URL:https://amyweintraub.com
X-WR-CALDESC:Events for Amy Weintraub
REFRESH-INTERVAL;VALUE=DURATION:PT1H
X-Robots-Tag:noindex
X-PUBLISHED-TTL:PT1H
BEGIN:VTIMEZONE
TZID:America/Phoenix
BEGIN:STANDARD
TZOFFSETFROM:-0700
TZOFFSETTO:-0700
TZNAME:MST
DTSTART:20210101T000000
END:STANDARD
END:VTIMEZONE
BEGIN:VEVENT
DTSTART;VALUE=DATE:20221102
DTEND;VALUE=DATE:20221105
DTSTAMP:20260423T073313
CREATED:20220530T123804Z
LAST-MODIFIED:20221110T194917Z
UID:3389-1667347200-1667606399@amyweintraub.com
SUMMARY:Yogic Applications for Psycho-Emotional Care
DESCRIPTION:Yogic Applications for Psycho-Emotional Care\nSoul of Yoga in Encinitas\, CA\nThis is a hybrid offering. Join us live in California or online from home.\nOnline Registration\n\nDuring this unique time in our world more and more people are reporting feeling anxious\, stressed\, angry\, depressed and exhausted. Yoga practices can help balance these moods and provide tools to better navigate our difficult times\, and Amy will share her evidenced-based protocols on how to use Yogic tools of pranayama\, asana\, mantra\, mudra and simple meditations to help you and your students who are experiencing situational and chronic psycho-emotional challenges and imbalances. \nTeaching through the lenses of both the latest scientific research and ancient Yogic philosophy Amy will illuminate how the nervous system can become unbalanced and stuck\, and how we can help foster balance\, health and spiritual growth through Yoga practices. The workshop will include a mix of practice\, lecture and practicum. You will learn accessible skills that support emotional balance\, soothe anxiety\, elevate mood\, reduce fatigue. These tools can increase ease and clarity and resilience. \nAmy\, who’s recent offering\, Amazon’s #1 Yoga for Your Mood card deck\, is also the author of the groundbreaking book\, Yoga for Depression. \nNearly twenty five years of research\, thirty+ years of practice\, and Amy’s personal recovery from a debilitating depression inform this protocol of evidence-based yoga practices. Learn tools not taught in regular yoga classes to support your own healing journey and those you serve. \nLifeForce Yoga weaves ancient disciplines with current scientific findings to help you release what no longer serves you and become the agent of your own healing. \nCEUs available. \n \n\n  \n  \nAmy Weintraub\, MFA\, ERYT-500\, C-IAYT\, YACEP\nAmy Weintraub\, MFA\, E-RYT 500\, YACEP\, C-IAYT\, is the founder of LifeForce Yoga® and a pioneer in the field of yoga and mental health. She is the author of Yoga for Depression (Broadway Books) and Yoga Skills for Therapists (W.W. Norton) and numerous magazine articles and book chapters. Amy is trained in Internal Family Systems\, Level 2\, and collaborates with IFS-certified therapists to offer integrated programs of IFS and LifeForce Yoga. She has been a consultant for research on the impact of Yoga on mood\, and the evidence-based Yoga protocols for depression and anxiety she developed are used in therapeutic settings internationally and are featured on award-winning audio-visual products for mood management. \nAmy’s latest offering\, Yoga for Your Mood Deck: 52 Ways to Shift Depression and Anxiety\, is available everywhere\, and through Sounds True/Macmillan. Her new novel Temple Dancer\, set in India in the 1940’s and in current day USA\, is now on Audible! \namyweintraub.com
URL:https://amyweintraub.com/event/yogic-applications-for-psycho-emotional-states-2/
LOCATION:Soul of Yoga\, 162 S. Rancho Santa Fe\, Encinitas\, CA\, 92024\, United States
CATEGORIES:Immersion,LFYP Training,talk/appearance,Virtual Gathering,Workshops
END:VEVENT
END:VCALENDAR